BEGIN:VCALENDAR
VERSION:2.0
PRODID:-//Dahlonega Baptist Church - ECPv6.5.0//NONSGML v1.0//EN
CALSCALE:GREGORIAN
METHOD:PUBLISH
X-WR-CALNAME:Dahlonega Baptist Church
X-ORIGINAL-URL:https://dahlonegabaptist.com
X-WR-CALDESC:Events for Dahlonega Baptist Church
REFRESH-INTERVAL;VALUE=DURATION:PT1H
X-Robots-Tag:noindex
X-PUBLISHED-TTL:PT1H
BEGIN:VTIMEZONE
TZID:America/New_York
BEGIN:DAYLIGHT
TZOFFSETFROM:-0500
TZOFFSETTO:-0400
TZNAME:EDT
DTSTART:20240310T070000
END:DAYLIGHT
BEGIN:STANDARD
TZOFFSETFROM:-0400
TZOFFSETTO:-0500
TZNAME:EST
DTSTART:20241103T060000
END:STANDARD
END:VTIMEZONE
BEGIN:VEVENT
DTSTART;TZID=America/New_York:20240829T180000
DTEND;TZID=America/New_York:20240829T193000
DTSTAMP:20260421T062106
CREATED:20240820T184523Z
LAST-MODIFIED:20240820T184523Z
UID:36108-1724954400-1724959800@dahlonegabaptist.com
SUMMARY:Thursday Evening Ladies Bible Study
DESCRIPTION:Pat Cowart host’s Kay Arthur’s Precept Upon Precept study on the book of Hebrews.  Begins at 6:00 each Thursday.  Contact Pat for more information.
URL:https://dahlonegabaptist.com/event/thursday-evening-ladies-bible-study/
END:VEVENT
END:VCALENDAR